BEGIN:VCALENDAR
VERSION:2.0
PRODID:Imitheme.com 
BEGIN:VEVENT
UID:20260421T1041362083403781
DTSTAMP;TZID=UTC:2026-04-21 10:41:36
DTSTART;TZID=America/Los_Angeles:20200222T220000
DTEND;TZID=America/Los_Angeles:20200222T230000
SUMMARY:CARNEVALE DI BORGATA CON FIACCOLATA
LOCATION:
DESCRIPTION:Sabato 22 febbraio dalle ore 22.00 a Borgata Sestriere, tradizionale fiaccolata. A seguire bugie e vin brulé per tutti. Organizzazione Scuola Italiana Sci Borgata con il patrocinio del Comune di Sestriere e il sostegno dei Commercianti di Borgata. Info e iscrizioni: telefono 0122 77497 oppure email info@scuolasciborgata.com
URL:https://sestriere.it/eventi/carnevale-di-borgata-con-fiaccolata/edate/2020-02-22
END:VEVENT
END:VCALENDAR
