BEGIN:VCALENDAR
VERSION:2.0
PRODID:Imitheme.com 
BEGIN:VEVENT
UID:20260421T0132081620487215
DTSTAMP;TZID=UTC:2026-04-21 01:32:08
DTSTART;TZID=America/Los_Angeles:20200106T100000
DTEND;TZID=America/Los_Angeles:20200106T234500
SUMMARY:MERCATINI DI NATALE
LOCATION:
DESCRIPTION:Dal 24 dicembre 2019 al 06 gennaio 2020 – MERCATINI DI NATALE In Piazza Fraiteve e Via Louset
URL:https://sestriere.it/eventi/mercatini-di-natale/edate/2020-01-06
END:VEVENT
END:VCALENDAR
