BEGIN:VCALENDAR
VERSION:2.0
PRODID:Imitheme.com 
BEGIN:VEVENT
UID:20260421T0246541065733493
DTSTAMP;TZID=UTC:2026-04-21 02:46:54
DTSTART;TZID=America/Los_Angeles:20260421T100000
DTEND;TZID=America/Los_Angeles:20260421T234500
SUMMARY:MERCATINI DI NATALE
LOCATION:
DESCRIPTION:Dal 24 dicembre 2019 al 06 gennaio 2020 – MERCATINI DI NATALE In Piazza Fraiteve e Via Louset
URL:https://sestriere.it/eventi/mercatini-di-natale/edate/2026-04-21
END:VEVENT
END:VCALENDAR
