BEGIN:VCALENDAR
VERSION:2.0
PRODID:Imitheme.com 
BEGIN:VEVENT
UID:20260421T1041271361141646
DTSTAMP;TZID=UTC:2026-04-21 10:41:27
DTSTART;TZID=America/Los_Angeles:20191221T173000
DTEND;TZID=America/Los_Angeles:20191221T213000
SUMMARY:Il “flair” di cocktail e di bartender proposto da Hempatico
LOCATION:
DESCRIPTION:21 dicembre – QUALITALTY EXPERIENCE – SALA PROLOCO- VIA LOUSET – Il “flair” di cocktail e di bartender proposto da Hempatico. L’unicità di un’eccellenza tutta subalpina, il Vermuth alla Canapa e i suoi abbinamenti in miscelazione. Dalle ore 17.30 con ingresso libero.
URL:https://sestriere.it/eventi/il-flair-di-cocktail-e-di-bartender-proposto-da-hempatico/edate/2019-12-21
END:VEVENT
END:VCALENDAR
