BEGIN:VCALENDAR
VERSION:2.0
PRODID:Imitheme.com 
BEGIN:VEVENT
UID:20260421T1041261895912938
DTSTAMP;TZID=UTC:2026-04-21 10:41:26
DTSTART;TZID=America/Los_Angeles:20191220T100000
DTEND;TZID=America/Los_Angeles:20191220T234500
SUMMARY:Degustazione a cura del Consorzio del Barberae Vini del Monferrato in abbianata con la Robiola di Roccaverano
LOCATION:
DESCRIPTION:Dal 20 dicembre 2019 al 06 gennaio 2020 – QUALITALTY EXPERIENCE – SALA PROLOCO - VIA LOUSET – Venerdì 20 dicembre alle 17.30, inaugurazione evento con degustazione a cura del Consorzio del Barbera e Vini del Monferrato in abbianata con la Robiola di Roccaverano. Sapori e degustazioni d’eccellenza con la “Qualitaly Experience” che, proponendo un’anteprima di quello che a gennaio durante la Coppa del Mondo di Sci diventerà “Casa Eccellenze”, presenta assaggi, degustazioni, analisi sensoriali e show cooking con i migliori prodotti di Langhe, Roero e Monferrato e qualche perla rara da tutto il Piemonte, in collaborazione con l’Accademia della Tradizione Enogastronomica. Ingresso libero sino ad esaurimento posti.
URL:https://sestriere.it/eventi/degustazione-a-cura-del-consorzio-del-barberae-vini-del-monferrato-in-abbianata-con-la-robiola-di-roccaverano/edate/2019-12-20
END:VEVENT
END:VCALENDAR
