BEGIN:VCALENDAR
VERSION:2.0
PRODID:Imitheme.com 
BEGIN:VEVENT
UID:20260425T1915271169322984
DTSTAMP;TZID=UTC:2026-04-25 19:15:27
DTSTART;TZID=America/Los_Angeles:20190803T220000
DTEND;TZID=America/Los_Angeles:20190803T230000
SUMMARY:Concerto dei Sucker Punch, Piazza Fraiteve - Sabato 3 Agosto ore 22:00
LOCATION:
DESCRIPTION:La pop rock band torinese SUCKER PUNCH: Seguita molto anche all\'estero soprattutto sui social network (95 gli stati coinvolti come fans club nel mondo), questo grazie ai loro VIDEOCLIP dal taglio cinematografico che hanno catturato l\'attenzione e consensi di critica e pubblico sia in Italia che all\'estero. L\'ultimo videoclip ufficiale pubblicato su youtube (Welcome Paradise)  girato nella suggestiva Sacra Di San Michele, storica abbazia simbolo del Piemonte. Molti gli articoli, ottime recensioni e riconoscimenti da giornalisti e operatori del settore. Sono stati anche ospiti di RED RONNIE negli studi televisivi di ROXY BAR TV e la rivista \"CLASSIC ROCK ITALIA\" li ha eletti nel 2017 una delle realtà più interessanti del panorama italiano indipendente. Tra i vari live importanti la band vanta 4 concerti ad Hiroshima Mom Amour e nel luglio 2017 si sono esibiti al prestigioso: - COLLISIONI FESTIVAL *** (Barolo) nella stessa giornata della star mondiale ROBBIE WILLIAMS. - Lo scorso Marzo hanno suonato al TEATRO ATLANTIC di Borgaro Torinese con Luca Martelli dei LITFIBA per La Notte Del Diablo. LA FORMAZIONE: - DAVIDE GIULIANO - VOCE - ALEX PREALTA - CHITARRE - GIANCARLO CALI\' - BASSO E TASTIERE
URL:https://sestriere.it/eventi/sucker-punch/edate/2019-08-03
END:VEVENT
END:VCALENDAR
