BEGIN:VCALENDAR
VERSION:2.0
PRODID:Imitheme.com 
BEGIN:VEVENT
UID:20260421T104136539830114
DTSTAMP;TZID=UTC:2026-04-21 10:41:36
DTSTART;TZID=America/Los_Angeles:20190804T100000
DTEND;TZID=America/Los_Angeles:20190804T183000
SUMMARY:4°EDIZIONE RADUNO VEICOLI D’EPOCA - 11 Agosto 2019
LOCATION:
DESCRIPTION:4°EDIZIONE RADUNO VEICOLI D’EPOCA A cura della pro Loco Sestriere
URL:https://sestriere.it/eventi/4edizione-raduno-veicoli-depoca-11-agosto-2019/edate/2019-08-04
END:VEVENT
END:VCALENDAR
